BEGIN:VCALENDAR
VERSION:2.0
BEGIN:VEVENT
URL:https://thegovfb.oztix.com.au/outlet/event/f294d16a-6c85-40b2-aae6-378235e874da
DTSTART:20261121T090000Z
DTEND:20261121T090000Z
SUMMARY:The Doors Alive (UK)
DESCRIPTION:Event details: https://thegovfb.oztix.com.au/outlet/event/f294d16a-6c85-40b2-aae6-378235e874da
LOCATION:The Gov - The Venue (Hindmarsh, SA)
END:VEVENT
END:VCALENDAR