BEGIN:VCALENDAR
VERSION:2.0
BEGIN:VEVENT
URL:https://thegovfb.oztix.com.au/outlet/event/ab750051-3911-493b-9cb6-dee840302a05
DTSTART:20260924T093000Z
DTEND:20260924T093000Z
SUMMARY:Kita Alexander – The Rage Tour
DESCRIPTION:Event details: https://thegovfb.oztix.com.au/outlet/event/ab750051-3911-493b-9cb6-dee840302a05
LOCATION:The Gov - The Venue (Hindmarsh, SA)
END:VEVENT
END:VCALENDAR