BEGIN:VCALENDAR
VERSION:2.0
BEGIN:VEVENT
URL:https://thegovfb.oztix.com.au/outlet/event/a6992070-36de-4e6c-9c8f-d0dc02378bee
DTSTART:20261106T090000Z
DTEND:20261106T090000Z
SUMMARY:Tusk - The Fleetwood Mac Tribute Show - Rumours & Hits
DESCRIPTION:Event details: https://thegovfb.oztix.com.au/outlet/event/a6992070-36de-4e6c-9c8f-d0dc02378bee
LOCATION:The Gov - The Venue (Hindmarsh, SA)
END:VEVENT
END:VCALENDAR