BEGIN:VCALENDAR
VERSION:2.0
BEGIN:VEVENT
URL:https://thegovfb.oztix.com.au/outlet/event/45b1362e-11aa-4718-bbde-9a1e98f32b5a
DTSTART:20260507T100000Z
DTEND:20260507T100000Z
SUMMARY:Cameron Whitcomb
DESCRIPTION:Event details: https://thegovfb.oztix.com.au/outlet/event/45b1362e-11aa-4718-bbde-9a1e98f32b5a
LOCATION:The Gov - The Venue (Hindmarsh, SA)
END:VEVENT
END:VCALENDAR