BEGIN:VCALENDAR
VERSION:2.0
BEGIN:VEVENT
URL:https://thegovfb.oztix.com.au/outlet/event/4569d242-3692-490c-936f-28d2ab5a2139
DTSTART:20260614T100000Z
DTEND:20260614T100000Z
SUMMARY:The Black Angels
DESCRIPTION:Event details: https://thegovfb.oztix.com.au/outlet/event/4569d242-3692-490c-936f-28d2ab5a2139
LOCATION:The Gov - The Venue (Hindmarsh, SA)
END:VEVENT
END:VCALENDAR