BEGIN:VCALENDAR
VERSION:2.0
BEGIN:VEVENT
URL:https://thegovfb.oztix.com.au/outlet/event/43162e39-3952-4545-a24d-c9abb147f22b
DTSTART:20260502T100000Z
DTEND:20260502T100000Z
SUMMARY:Southern Sons
DESCRIPTION:Event details: https://thegovfb.oztix.com.au/outlet/event/43162e39-3952-4545-a24d-c9abb147f22b
LOCATION:The Gov - The Venue (Hindmarsh, SA)
END:VEVENT
END:VCALENDAR