BEGIN:VCALENDAR
VERSION:2.0
BEGIN:VEVENT
URL:https://thegovfb.oztix.com.au/outlet/event/40719f6c-73fd-447c-91a9-f5330f3454da
DTSTART:20260621T073000Z
DTEND:20260621T073000Z
SUMMARY:Big Squid
DESCRIPTION:Event details: https://thegovfb.oztix.com.au/outlet/event/40719f6c-73fd-447c-91a9-f5330f3454da
LOCATION:The Gov - The Venue (Hindmarsh, SA)
END:VEVENT
END:VCALENDAR