BEGIN:VCALENDAR
VERSION:2.0
BEGIN:VEVENT
URL:https://thegovfb.oztix.com.au/outlet/event/32929dcf-96d4-4ef2-9cca-52ce5122f374
DTSTART:20260906T100000Z
DTEND:20260906T100000Z
SUMMARY:Happy Mondays '35th Anniversary of Pills N' Thrills and Bellyaches' Australia and New Zealand tour
DESCRIPTION:Event details: https://thegovfb.oztix.com.au/outlet/event/32929dcf-96d4-4ef2-9cca-52ce5122f374
LOCATION:The Gov - The Venue (Hindmarsh, SA)
END:VEVENT
END:VCALENDAR