BEGIN:VCALENDAR
VERSION:2.0
BEGIN:VEVENT
URL:https://thegovfb.oztix.com.au/outlet/event/1ba5fbd6-d01d-4dd7-b3dc-f982d183bd1c
DTSTART:20261107T090000Z
DTEND:20261107T090000Z
SUMMARY:Tusk - The Fleetwood Mac Tribute Show - Greatest Hits
DESCRIPTION:Event details: https://thegovfb.oztix.com.au/outlet/event/1ba5fbd6-d01d-4dd7-b3dc-f982d183bd1c
LOCATION:The Gov - The Venue (Hindmarsh, SA)
END:VEVENT
END:VCALENDAR